BEGIN:VCALENDAR
VERSION:2.0
PRODID:-//Instituto de Auditores Internos de Argentina - ECPv6.3.7//NONSGML v1.0//EN
CALSCALE:GREGORIAN
METHOD:PUBLISH
X-WR-CALNAME:Instituto de Auditores Internos de Argentina
X-ORIGINAL-URL:https://iaia.org.ar
X-WR-CALDESC:Eventos para Instituto de Auditores Internos de Argentina
REFRESH-INTERVAL;VALUE=DURATION:PT1H
X-Robots-Tag:noindex
X-PUBLISHED-TTL:PT1H
BEGIN:VTIMEZONE
TZID:America/Sao_Paulo
BEGIN:STANDARD
TZOFFSETFROM:-0300
TZOFFSETTO:-0300
TZNAME:-03
DTSTART:20200101T000000
END:STANDARD
END:VTIMEZONE
BEGIN:VEVENT
DTSTART;TZID=America/Sao_Paulo:20200306T173000
DTEND;TZID=America/Sao_Paulo:20200306T193000
DTSTAMP:20260425T101148
CREATED:20200304T210340Z
LAST-MODIFIED:20200304T210340Z
UID:17240-1583515800-1583523000@iaia.org.ar
SUMMARY:Encuentro de candidatos CIA
DESCRIPTION:El día 6 de marzo de 17:30 a 19:30 se realizará en la sede del IAIA un Encuentro de candidatos CIA y Socios ya certificados en CIA. El objetivo del encuentro es repasar las modalidades de preguntas\, formas de estudio y compartir experiencias para el acompañamiento de Futuros CIAs. \nLa actividad estará a cargo de Laura Mariani CIA\, CGAP y CRMA (Miembro de CD) y Erica Enrique CIA y CRMA (Miembro de CD).  También nos acompañarán socios que ya pasaron por el proceso de certificación con el fin de intercambiar experiencias. \nInscripción sin costo para socios IAIA.  No Socios $500.- (Actividad exclusiva para participantes en proceso de certificación)     \nINSCRIBIRME | CLIC
URL:https://iaia.org.ar/actividad/encuentro-de-candidatos-cia/
LOCATION:IAIA\, Viamonte 783 4 Piso\, CABA\, CABA\, 1053\, Argentina
CATEGORIES:Comité de Trabajo,Desayunos de Trabajo
END:VEVENT
END:VCALENDAR