BEGIN:VCALENDAR
VERSION:2.0
PRODID:-//Instituto de Auditores Internos de Argentina - ECPv6.3.7//NONSGML v1.0//EN
CALSCALE:GREGORIAN
METHOD:PUBLISH
X-ORIGINAL-URL:https://iaia.org.ar
X-WR-CALDESC:Eventos para Instituto de Auditores Internos de Argentina
REFRESH-INTERVAL;VALUE=DURATION:PT1H
X-Robots-Tag:noindex
X-PUBLISHED-TTL:PT1H
BEGIN:VTIMEZONE
TZID:America/Sao_Paulo
BEGIN:STANDARD
TZOFFSETFROM:-0300
TZOFFSETTO:-0300
TZNAME:-03
DTSTART:20210101T000000
END:STANDARD
END:VTIMEZONE
BEGIN:VEVENT
DTSTART;TZID=America/Sao_Paulo:20210929T000000
DTEND;TZID=America/Sao_Paulo:20210929T235959
DTSTAMP:20260424T161747
CREATED:20210527T133852Z
LAST-MODIFIED:20210527T133932Z
UID:20379-1632873600-1632959999@iaia.org.ar
SUMMARY:Jornadas para Entidades Financieras - Día 1
DESCRIPTION:Jornadas para Entidades Financieras
URL:https://iaia.org.ar/actividad/jornadas-para-entidades-financieras-dia-1/
CATEGORIES:Eventos
END:VEVENT
END:VCALENDAR