BEGIN:VCALENDAR
VERSION:2.0
PRODID:-//Instituto de Auditores Internos de Argentina - ECPv6.3.7//NONSGML v1.0//EN
CALSCALE:GREGORIAN
METHOD:PUBLISH
X-WR-CALNAME:Instituto de Auditores Internos de Argentina
X-ORIGINAL-URL:https://iaia.org.ar
X-WR-CALDESC:Eventos para Instituto de Auditores Internos de Argentina
REFRESH-INTERVAL;VALUE=DURATION:PT1H
X-Robots-Tag:noindex
X-PUBLISHED-TTL:PT1H
BEGIN:VTIMEZONE
TZID:America/Sao_Paulo
BEGIN:STANDARD
TZOFFSETFROM:-0300
TZOFFSETTO:-0300
TZNAME:-03
DTSTART:20200101T000000
END:STANDARD
END:VTIMEZONE
BEGIN:VEVENT
DTSTART;TZID=America/Sao_Paulo:20200722T110000
DTEND;TZID=America/Sao_Paulo:20200722T123000
DTSTAMP:20260425T132418
CREATED:20200721T150809Z
LAST-MODIFIED:20200721T151034Z
UID:18253-1595415600-1595421000@iaia.org.ar
SUMMARY:WEBINAR: Los flujos de caja y sus posibles respuestas ante el escenario de crisis
DESCRIPTION:A medida que los negocios aprenden a adaptarse a los cambios constantes del mundo\, ya se está escribiendo el siguiente capítulo. El impacto del COVID-19 afectó las cadenas de pago y suministro\, irrumpiendo en los mercados financieros y distorsionando el funcionamiento diario de los negocios. \nExpositores: \n\nAndrea Oteiza Centrón – Socia de Deal Advisory de KPMG en Argentina\nGabriel Miyagi – Director de Deal Advisory de KPMG en Argentina\n\n+INFORMACIÓN
URL:https://iaia.org.ar/actividad/webinar-los-flujos-de-caja-y-sus-posibles-respuestas-ante-el-escenario-de-crisis/
LOCATION:ONLINE\, Argentina
CATEGORIES:Webinar
END:VEVENT
BEGIN:VEVENT
DTSTART;TZID=America/Sao_Paulo:20200729T110000
DTEND;TZID=America/Sao_Paulo:20200729T123000
DTSTAMP:20260425T132418
CREATED:20200721T151259Z
LAST-MODIFIED:20200721T151259Z
UID:18257-1596020400-1596025800@iaia.org.ar
SUMMARY:WEBINAR: Conceptos de Firma Digital y Electrónica. Normativa\, Requisitos y su Aplicación en Documentos Digitales
DESCRIPTION:Conceptos de la Ley y Normativa Argentina sobre Firma Digital.\nTipos de Firma reconocidos por la Normativa y cuáles son los requisitos.\nDiferencias entre los tipos de Firma y su implicancia en la Firma de documentos digitales.\nEjemplos de Firma Digital\, Electrónica y Biométrica.\nEficacia Jurídica y Probatoria de los tipos de Firma.\nResguardo de Evidencias del proceso de Firmas.\nCasos de uso de Firma Digital\, Electrónica y Biométrica.\nBeneficios de la utilización de Firmas Digitales\, Electrónicas y Biométricas – Ejemplos de Medición del ROI.\nFirmas Digitales\, Electrónicas y Biométricas en los procesos de Auditoría.\nEl presente y futuro de las Firmas.\n\nExpositor: \n\nLicenciado Gabriel Agnoli\n\n+INFORMACIÓN
URL:https://iaia.org.ar/actividad/webinar-conceptos-de-firma-digital-y-electronica-normativa-requisitos-y-su-aplicacion-en-documentos-digitales/
LOCATION:ONLINE\, Argentina
CATEGORIES:Webinar
END:VEVENT
BEGIN:VEVENT
DTSTART;TZID=America/Sao_Paulo:20200731T100000
DTEND;TZID=America/Sao_Paulo:20200731T113000
DTSTAMP:20260425T132418
CREATED:20200721T151445Z
LAST-MODIFIED:20200721T151445Z
UID:18259-1596189600-1596195000@iaia.org.ar
SUMMARY:WEBINAR: Caso Real de Implementación y Certificación de ISO 37001 - Sistema de Gestión Antisoborno
DESCRIPTION:Actividad organizada por el Comité de Compliance \n\nLa empresa Central Dock Sud es la segunda en el país en implementar esta normativa ISO sobre sistemas de Gestión Antisoborno. \nDurante el encuentro se explicaran en detalle algunos aspectos como ser:\n\nCuáles fueron las etapas para lograr la certificación\nSimilitudes con la Ley 27401\nConformación de los equipos de trabajo\nProcesos y recursos clave del sistema de gestión antisoborno\nEtapas de la auditoría para lograr la certificación\nInconvenientes que se presentaron\nRecomendaciones para su implementación\n\nExpositores:\n\nNatalia Nicali\, Gerente de RRHH y Compliance Officer\nVerónica Balleto Gerente de Administración y finanzas\, ambas de CDS\n\n+INFORMACIÓN
URL:https://iaia.org.ar/actividad/webinar-caso-real-de-implementacion-y-certificacion-de-iso-37001-sistema-de-gestion-antisoborno/
LOCATION:ONLINE\, Argentina
CATEGORIES:Webinar
END:VEVENT
END:VCALENDAR