BEGIN:VCALENDAR
VERSION:2.0
PRODID:-//Instituto de Auditores Internos de Argentina - ECPv6.3.7//NONSGML v1.0//EN
CALSCALE:GREGORIAN
METHOD:PUBLISH
X-ORIGINAL-URL:https://iaia.org.ar
X-WR-CALDESC:Eventos para Instituto de Auditores Internos de Argentina
REFRESH-INTERVAL;VALUE=DURATION:PT1H
X-Robots-Tag:noindex
X-PUBLISHED-TTL:PT1H
BEGIN:VTIMEZONE
TZID:America/Sao_Paulo
BEGIN:STANDARD
TZOFFSETFROM:-0300
TZOFFSETTO:-0300
TZNAME:-03
DTSTART:20200101T000000
END:STANDARD
END:VTIMEZONE
BEGIN:VEVENT
DTSTART;TZID=America/Sao_Paulo:20200602T110000
DTEND;TZID=America/Sao_Paulo:20200602T123000
DTSTAMP:20260425T165338
CREATED:20200528T221602Z
LAST-MODIFIED:20200601T133723Z
UID:17829-1591095600-1591101000@iaia.org.ar
SUMMARY:Webinar: Ciberseguridad y Privacidad de Datos en tiempos de Teletrabajo masivo. Rol del Auditor Interno
DESCRIPTION:Actividad sin costo para SOCIOS | No socios $600.- \nINSCRIPCIÓN | CLIC\n\nEn un contexto de pandemia\, el mundo se vio empujado a trabajar en forma virtual. En ese contexto no todas las organizaciones y personas\, estaban preparadas para trabajar a distancia. Esto trae consecuencias relativas a la ciberseguridad y a la privacidad de datos de las organizaciones y personas\, donde la mirada y actuación del auditor interno juegan un rol fundamental. \nAdrian Girotti \nCISA\, CISM\,QAR \nLicenciado en Administración de Empresas\, UCES\nTécnico Superior en Comercio Exterior\, Fundación Banco de Boston\nDiplomatura Gestión de Modelos y Proc. de Negocios ¬ Instituto Tecnológico de Buenos Aires (ITBA)\nCISA\, Certified Information Systems Auditor\, ISACA\nQA\, Accreditation in Internal Quality Assessment / Validation. The Institute of Internal Auditors.\nExpositor de temas relacionados a la auditoria de sistemas de información en diversos foros\nInstructor en la Especialización en Detección del Fraude y Auditoría del Consejo Profesional CABA\nHa participado en equipos evaluadores de calidad de Auditoría Interna (QA) en el país y en el exterior\nSe desempeñó como Gerente de Auditorias de Sistemas de Información y Análisis de Datos\, Sindicatura General de la Ciudad de Buenos Aires\nActualmente se desempeña como Auditor Interno de Contenidos Públicos SE\, Secretaria de Gobierno Sistema Federal de Medios y Contenidos Públicos\, Jefatura de Gabinete de Ministros
URL:https://iaia.org.ar/actividad/ciberseguridad-y-privacidad-de-datos-en-tiempos-de-teletrabajo-masivo-rol-del-auditor-interno/
LOCATION:ONLINE\, Argentina
CATEGORIES:Webinar
END:VEVENT
END:VCALENDAR