BEGIN:VCALENDAR
VERSION:2.0
PRODID:-//Instituto de Auditores Internos de Argentina - ECPv6.3.7//NONSGML v1.0//EN
CALSCALE:GREGORIAN
METHOD:PUBLISH
X-WR-CALNAME:Instituto de Auditores Internos de Argentina
X-ORIGINAL-URL:https://iaia.org.ar
X-WR-CALDESC:Eventos para Instituto de Auditores Internos de Argentina
REFRESH-INTERVAL;VALUE=DURATION:PT1H
X-Robots-Tag:noindex
X-PUBLISHED-TTL:PT1H
BEGIN:VTIMEZONE
TZID:America/Sao_Paulo
BEGIN:STANDARD
TZOFFSETFROM:-0300
TZOFFSETTO:-0300
TZNAME:-03
DTSTART:20200101T000000
END:STANDARD
END:VTIMEZONE
BEGIN:VEVENT
DTSTART;TZID=America/Sao_Paulo:20200928T170000
DTEND;TZID=America/Sao_Paulo:20200928T210000
DTSTAMP:20260424T212502
CREATED:20200902T214902Z
LAST-MODIFIED:20200902T214902Z
UID:18745-1601312400-1601326800@iaia.org.ar
SUMMARY:Auditoría Interna – Módulo II - Clase 1
DESCRIPTION:Pensado para Auditores Internos con experiencia en la práctica profesional\, que deseen aportar un verdadero valor agregado a la Dirección en la evaluación de controles internos\, más allá de la información financiera y el cumplimiento. Auditores Internos de distintos niveles familiarizados con conceptos básicos de auditoría y control\, interesados en mejorar sus habilidades de evaluación de los controles internos y de gestión\, a través de metodologías de auditoría operativa eficaces y eficientes. Demás profesionales de auditoría y áreas de control que tienen la responsabilidad de establecer y monitorear marcos de control interno\, para posicionar mejor a sus organizaciones y optimizar la consecución de sus objetivos. \n+INFORMACIÓN
URL:https://iaia.org.ar/actividad/auditoria-interna-modulo-ii-clase-1/
LOCATION:ONLINE\, Argentina
CATEGORIES:Cursos
END:VEVENT
BEGIN:VEVENT
DTSTART;TZID=America/Sao_Paulo:20200930T170000
DTEND;TZID=America/Sao_Paulo:20200930T210000
DTSTAMP:20260424T212502
CREATED:20200902T214942Z
LAST-MODIFIED:20200902T214942Z
UID:18746-1601485200-1601499600@iaia.org.ar
SUMMARY:Auditoría Interna – Módulo II - Clase 2
DESCRIPTION:Pensado para Auditores Internos con experiencia en la práctica profesional\, que deseen aportar un verdadero valor agregado a la Dirección en la evaluación de controles internos\, más allá de la información financiera y el cumplimiento. Auditores Internos de distintos niveles familiarizados con conceptos básicos de auditoría y control\, interesados en mejorar sus habilidades de evaluación de los controles internos y de gestión\, a través de metodologías de auditoría operativa eficaces y eficientes. Demás profesionales de auditoría y áreas de control que tienen la responsabilidad de establecer y monitorear marcos de control interno\, para posicionar mejor a sus organizaciones y optimizar la consecución de sus objetivos. \n+INFORMACIÓN
URL:https://iaia.org.ar/actividad/auditoria-interna-modulo-ii-clase-2-2/
LOCATION:ONLINE\, Argentina
CATEGORIES:Cursos
END:VEVENT
END:VCALENDAR