BEGIN:VCALENDAR
VERSION:2.0
PRODID:-//Instituto de Auditores Internos de Argentina - ECPv6.3.7//NONSGML v1.0//EN
CALSCALE:GREGORIAN
METHOD:PUBLISH
X-ORIGINAL-URL:https://iaia.org.ar
X-WR-CALDESC:Eventos para Instituto de Auditores Internos de Argentina
REFRESH-INTERVAL;VALUE=DURATION:PT1H
X-Robots-Tag:noindex
X-PUBLISHED-TTL:PT1H
BEGIN:VTIMEZONE
TZID:America/Sao_Paulo
BEGIN:STANDARD
TZOFFSETFROM:-0300
TZOFFSETTO:-0300
TZNAME:-03
DTSTART:20210101T000000
END:STANDARD
END:VTIMEZONE
BEGIN:VEVENT
DTSTART;TZID=America/Sao_Paulo:20210602T170000
DTEND;TZID=America/Sao_Paulo:20210602T180000
DTSTAMP:20260424T061457
CREATED:20210204T125218Z
LAST-MODIFIED:20210204T125218Z
UID:19844-1622653200-1622656800@iaia.org.ar
SUMMARY:Comité de Analistas en Auditoría Interna
DESCRIPTION:Reunión mensual
URL:https://iaia.org.ar/actividad/comite-de-analistas-en-auditoria-interna-4/
CATEGORIES:Comité de Trabajo
END:VEVENT
BEGIN:VEVENT
DTSTART;TZID=America/Sao_Paulo:20210622T090000
DTEND;TZID=America/Sao_Paulo:20210622T130000
DTSTAMP:20260424T061457
CREATED:20210520T205134Z
LAST-MODIFIED:20210520T205218Z
UID:20361-1624352400-1624366800@iaia.org.ar
SUMMARY:ENAI - Día 1
DESCRIPTION:“El impacto de los hechos recientes ha sido movilizador en todos los aspectos y ha obligado también a los equipos de auditoría a reevaluar cómo están operando y cómo deberán operar en el futuro. Este año\, el ENAI buscará proporcionar una visión de cómo los equipos de auditoría se han adaptado al entorno de trabajo remoto y cómo debemos evolucionar para garantizar que sigan siendo eficaces en el futuro. También considerará cómo los auditores se han visto afectados por el COVID-19 y los cambios tecnológicos que pueden afectar a la profesión en el futuro.” \nMÁS INFORMACIÓN
URL:https://iaia.org.ar/actividad/enai-dia-1/
CATEGORIES:Eventos
END:VEVENT
BEGIN:VEVENT
DTSTART;TZID=America/Sao_Paulo:20210624T090000
DTEND;TZID=America/Sao_Paulo:20210624T130000
DTSTAMP:20260424T061457
CREATED:20210520T205246Z
LAST-MODIFIED:20210520T205246Z
UID:20363-1624525200-1624539600@iaia.org.ar
SUMMARY:ENAI - Día 2
DESCRIPTION:“El impacto de los hechos recientes ha sido movilizador en todos los aspectos y ha obligado también a los equipos de auditoría a reevaluar cómo están operando y cómo deberán operar en el futuro. Este año\, el ENAI buscará proporcionar una visión de cómo los equipos de auditoría se han adaptado al entorno de trabajo remoto y cómo debemos evolucionar para garantizar que sigan siendo eficaces en el futuro. También considerará cómo los auditores se han visto afectados por el COVID-19 y los cambios tecnológicos que pueden afectar a la profesión en el futuro.” \nMÁS INFORMACIÓN
URL:https://iaia.org.ar/actividad/enai-dia-2/
CATEGORIES:Eventos
END:VEVENT
END:VCALENDAR