BEGIN:VCALENDAR
VERSION:2.0
PRODID:-//Instituto de Auditores Internos de Argentina - ECPv6.3.7//NONSGML v1.0//EN
CALSCALE:GREGORIAN
METHOD:PUBLISH
X-ORIGINAL-URL:https://iaia.org.ar
X-WR-CALDESC:Eventos para Instituto de Auditores Internos de Argentina
REFRESH-INTERVAL;VALUE=DURATION:PT1H
X-Robots-Tag:noindex
X-PUBLISHED-TTL:PT1H
BEGIN:VTIMEZONE
TZID:America/Sao_Paulo
BEGIN:STANDARD
TZOFFSETFROM:-0300
TZOFFSETTO:-0300
TZNAME:-03
DTSTART:20210101T000000
END:STANDARD
END:VTIMEZONE
BEGIN:VEVENT
DTSTART;TZID=America/Sao_Paulo:20210715T093000
DTEND;TZID=America/Sao_Paulo:20210715T133000
DTSTAMP:20260424T112147
CREATED:20210212T190200Z
LAST-MODIFIED:20210513T192321Z
UID:19956-1626341400-1626355800@iaia.org.ar
SUMMARY:Técnicas y prácticas de Negociación para Auditores – Clase 2
DESCRIPTION:El curso está orientado a plantear los posibles escenarios y conocer técnicas y herramientas que servirán de guía para lograr un buen desempeño en la negociación.\nQue los participantes incrementen significativamente sus habilidades de comunicación\, negociación y liderazgo de sus equipos de trabajo y en aplicación con sus clientes internos. \n+ INFORMACIÓN
URL:https://iaia.org.ar/actividad/tecnicas-y-practicas-de-negociacion-para-auditores-clase-2-3/
CATEGORIES:Cursos
END:VEVENT
END:VCALENDAR