BEGIN:VCALENDAR
VERSION:2.0
PRODID:-//Instituto de Auditores Internos de Argentina - ECPv6.3.7//NONSGML v1.0//EN
CALSCALE:GREGORIAN
METHOD:PUBLISH
X-ORIGINAL-URL:https://iaia.org.ar
X-WR-CALDESC:Eventos para Instituto de Auditores Internos de Argentina
REFRESH-INTERVAL;VALUE=DURATION:PT1H
X-Robots-Tag:noindex
X-PUBLISHED-TTL:PT1H
BEGIN:VTIMEZONE
TZID:America/Sao_Paulo
BEGIN:STANDARD
TZOFFSETFROM:-0300
TZOFFSETTO:-0300
TZNAME:-03
DTSTART:20210101T000000
END:STANDARD
END:VTIMEZONE
BEGIN:VEVENT
DTSTART;TZID=America/Sao_Paulo:20210727T093000
DTEND;TZID=America/Sao_Paulo:20210727T133000
DTSTAMP:20260420T164422
CREATED:20210610T160015Z
LAST-MODIFIED:20210610T160015Z
UID:20488-1627378200-1627392600@iaia.org.ar
SUMMARY:Gestión de Riesgos y Mejora Continua de Procesos - Clase 1
DESCRIPTION:Destinado a Auditores\, Supervisores\, Gerentes\, DEAs\, Directores y demás colaboradores de entes privados y/o estatales que deseen mantener actualizadas sus competencias sobre Mejora Continua y su relación con la Gestión de Riesgos de Fraudes. \n+INFORMACIÓN
URL:https://iaia.org.ar/actividad/gestion-de-riesgos-y-mejora-continua-de-procesos-clase-1/
CATEGORIES:Cursos
END:VEVENT
END:VCALENDAR