BEGIN:VCALENDAR
VERSION:2.0
PRODID:-//Instituto de Auditores Internos de Argentina - ECPv6.3.7//NONSGML v1.0//EN
CALSCALE:GREGORIAN
METHOD:PUBLISH
X-WR-CALNAME:Instituto de Auditores Internos de Argentina
X-ORIGINAL-URL:https://iaia.org.ar
X-WR-CALDESC:Eventos para Instituto de Auditores Internos de Argentina
REFRESH-INTERVAL;VALUE=DURATION:PT1H
X-Robots-Tag:noindex
X-PUBLISHED-TTL:PT1H
BEGIN:VTIMEZONE
TZID:America/Sao_Paulo
BEGIN:STANDARD
TZOFFSETFROM:-0300
TZOFFSETTO:-0300
TZNAME:-03
DTSTART:20210101T000000
END:STANDARD
END:VTIMEZONE
BEGIN:VEVENT
DTSTART;TZID=America/Sao_Paulo:20211006T170000
DTEND;TZID=America/Sao_Paulo:20211006T180000
DTSTAMP:20260420T003614
CREATED:20210204T125445Z
LAST-MODIFIED:20210204T125445Z
UID:19848-1633539600-1633543200@iaia.org.ar
SUMMARY:Comité de Analistas en Auditoría Interna
DESCRIPTION:Reunión mensual
URL:https://iaia.org.ar/actividad/comite-de-analistas-en-auditoria-interna-8/
CATEGORIES:Comité de Trabajo
END:VEVENT
END:VCALENDAR