BEGIN:VCALENDAR
VERSION:2.0
PRODID:-//Instituto de Auditores Internos de Argentina - ECPv6.3.7//NONSGML v1.0//EN
CALSCALE:GREGORIAN
METHOD:PUBLISH
X-WR-CALNAME:Instituto de Auditores Internos de Argentina
X-ORIGINAL-URL:https://iaia.org.ar
X-WR-CALDESC:Eventos para Instituto de Auditores Internos de Argentina
REFRESH-INTERVAL;VALUE=DURATION:PT1H
X-Robots-Tag:noindex
X-PUBLISHED-TTL:PT1H
BEGIN:VTIMEZONE
TZID:America/Sao_Paulo
BEGIN:STANDARD
TZOFFSETFROM:-0300
TZOFFSETTO:-0300
TZNAME:-03
DTSTART:20210101T000000
END:STANDARD
END:VTIMEZONE
BEGIN:VEVENT
DTSTART;TZID=America/Sao_Paulo:20210406T180000
DTEND;TZID=America/Sao_Paulo:20210406T213000
DTSTAMP:20260424T195708
CREATED:20210210T124627Z
LAST-MODIFIED:20210210T124627Z
UID:19886-1617732000-1617744600@iaia.org.ar
SUMMARY:Programa para la certificación CIA - Parte 1 - Clase 5
DESCRIPTION:Brinda tutorial y guía sobre contenidos y prácticas de estudio para garantizar el entendimiento de conocimientos\, habilidades y aptitudes relacionadas con la actividad de auditoría interna que serán evaluadas al rendir el examen CIA. \n+INFORMACIÓN
URL:https://iaia.org.ar/actividad/programa-para-la-certificacion-cia-parte-1-clase-5/
CATEGORIES:Cursos
END:VEVENT
BEGIN:VEVENT
DTSTART;TZID=America/Sao_Paulo:20210408T180000
DTEND;TZID=America/Sao_Paulo:20210408T213000
DTSTAMP:20260424T195708
CREATED:20210210T124656Z
LAST-MODIFIED:20210210T124656Z
UID:19887-1617904800-1617917400@iaia.org.ar
SUMMARY:Programa para la certificación CIA - Parte 1 - Clase 6
DESCRIPTION:Brinda tutorial y guía sobre contenidos y prácticas de estudio para garantizar el entendimiento de conocimientos\, habilidades y aptitudes relacionadas con la actividad de auditoría interna que serán evaluadas al rendir el examen CIA. \n+INFORMACIÓN
URL:https://iaia.org.ar/actividad/programa-para-la-certificacion-cia-parte-1-clase-6/
CATEGORIES:Cursos
END:VEVENT
BEGIN:VEVENT
DTSTART;TZID=America/Sao_Paulo:20210413T180000
DTEND;TZID=America/Sao_Paulo:20210413T213000
DTSTAMP:20260424T195708
CREATED:20210210T124815Z
LAST-MODIFIED:20210210T124815Z
UID:19888-1618336800-1618349400@iaia.org.ar
SUMMARY:Programa para la certificación CIA - Parte 1 - Clase 7
DESCRIPTION:Brinda tutorial y guía sobre contenidos y prácticas de estudio para garantizar el entendimiento de conocimientos\, habilidades y aptitudes relacionadas con la actividad de auditoría interna que serán evaluadas al rendir el examen CIA. \n+INFORMACIÓN
URL:https://iaia.org.ar/actividad/programa-para-la-certificacion-cia-parte-1-clase-7/
CATEGORIES:Cursos
END:VEVENT
BEGIN:VEVENT
DTSTART;TZID=America/Sao_Paulo:20210415T180000
DTEND;TZID=America/Sao_Paulo:20210415T213000
DTSTAMP:20260424T195708
CREATED:20210210T124842Z
LAST-MODIFIED:20210210T124842Z
UID:19889-1618509600-1618522200@iaia.org.ar
SUMMARY:Programa para la certificación CIA - Parte 1 - Clase 8
DESCRIPTION:Brinda tutorial y guía sobre contenidos y prácticas de estudio para garantizar el entendimiento de conocimientos\, habilidades y aptitudes relacionadas con la actividad de auditoría interna que serán evaluadas al rendir el examen CIA. \n+INFORMACIÓN
URL:https://iaia.org.ar/actividad/programa-para-la-certificacion-cia-parte-1-clase-8/
CATEGORIES:Cursos
END:VEVENT
BEGIN:VEVENT
DTSTART;TZID=America/Sao_Paulo:20210427T180000
DTEND;TZID=America/Sao_Paulo:20210427T213000
DTSTAMP:20260424T195708
CREATED:20210210T125502Z
LAST-MODIFIED:20210210T125502Z
UID:19898-1619546400-1619559000@iaia.org.ar
SUMMARY:Programa para la certificación CIA – Parte 2 – Clase 1
DESCRIPTION:Brinda tutorial y guía sobre contenidos y prácticas de estudio para garantizar el entendimiento de conocimientos\, habilidades y aptitudes relacionadas con la actividad de auditoría interna que serán evaluadas al rendir el examen CIA. \n+INFORMACIÓN
URL:https://iaia.org.ar/actividad/programa-para-la-certificacion-cia-parte-2-clase-1/
CATEGORIES:Cursos
END:VEVENT
BEGIN:VEVENT
DTSTART;TZID=America/Sao_Paulo:20210429T180000
DTEND;TZID=America/Sao_Paulo:20210429T213000
DTSTAMP:20260424T195708
CREATED:20210210T125515Z
LAST-MODIFIED:20210210T125515Z
UID:19899-1619719200-1619731800@iaia.org.ar
SUMMARY:Programa para la certificación CIA – Parte 2 – Clase 2
DESCRIPTION:Brinda tutorial y guía sobre contenidos y prácticas de estudio para garantizar el entendimiento de conocimientos\, habilidades y aptitudes relacionadas con la actividad de auditoría interna que serán evaluadas al rendir el examen CIA. \n+INFORMACIÓN
URL:https://iaia.org.ar/actividad/programa-para-la-certificacion-cia-parte-2-clase-2/
CATEGORIES:Cursos
END:VEVENT
END:VCALENDAR