BEGIN:VCALENDAR
VERSION:2.0
PRODID:-//Instituto de Auditores Internos de Argentina - ECPv6.3.7//NONSGML v1.0//EN
CALSCALE:GREGORIAN
METHOD:PUBLISH
X-WR-CALNAME:Instituto de Auditores Internos de Argentina
X-ORIGINAL-URL:https://iaia.org.ar
X-WR-CALDESC:Eventos para Instituto de Auditores Internos de Argentina
REFRESH-INTERVAL;VALUE=DURATION:PT1H
X-Robots-Tag:noindex
X-PUBLISHED-TTL:PT1H
BEGIN:VTIMEZONE
TZID:America/Sao_Paulo
BEGIN:STANDARD
TZOFFSETFROM:-0300
TZOFFSETTO:-0300
TZNAME:-03
DTSTART:20210101T000000
END:STANDARD
END:VTIMEZONE
BEGIN:VEVENT
DTSTART;TZID=America/Sao_Paulo:20210323T180000
DTEND;TZID=America/Sao_Paulo:20210323T213000
DTSTAMP:20260425T101234
CREATED:20210210T124259Z
LAST-MODIFIED:20210210T124510Z
UID:19884-1616522400-1616535000@iaia.org.ar
SUMMARY:Programa para la certificación CIA - Parte 1 - Clase 3
DESCRIPTION:Brinda tutorial y guía sobre contenidos y prácticas de estudio para garantizar el entendimiento de conocimientos\, habilidades y aptitudes relacionadas con la actividad de auditoría interna que serán evaluadas al rendir el examen CIA. \n+INFORMACIÓN
URL:https://iaia.org.ar/actividad/programa-para-la-certificacion-cia-parte-1-clase-3/
CATEGORIES:Cursos
END:VEVENT
END:VCALENDAR