BEGIN:VCALENDAR
VERSION:2.0
PRODID:-//Instituto de Auditores Internos de Argentina - ECPv6.3.7//NONSGML v1.0//EN
CALSCALE:GREGORIAN
METHOD:PUBLISH
X-ORIGINAL-URL:https://iaia.org.ar
X-WR-CALDESC:Eventos para Instituto de Auditores Internos de Argentina
REFRESH-INTERVAL;VALUE=DURATION:PT1H
X-Robots-Tag:noindex
X-PUBLISHED-TTL:PT1H
BEGIN:VTIMEZONE
TZID:America/Sao_Paulo
BEGIN:STANDARD
TZOFFSETFROM:-0300
TZOFFSETTO:-0300
TZNAME:-03
DTSTART:20210101T000000
END:STANDARD
END:VTIMEZONE
BEGIN:VEVENT
DTSTART;TZID=America/Sao_Paulo:20210325T180000
DTEND;TZID=America/Sao_Paulo:20210325T213000
DTSTAMP:20260425T102328
CREATED:20210210T124409Z
LAST-MODIFIED:20210210T124514Z
UID:19885-1616695200-1616707800@iaia.org.ar
SUMMARY:Programa para la certificación CIA - Parte 1 - Clase 4
DESCRIPTION:Brinda tutorial y guía sobre contenidos y prácticas de estudio para garantizar el entendimiento de conocimientos\, habilidades y aptitudes relacionadas con la actividad de auditoría interna que serán evaluadas al rendir el examen CIA. \n+INFORMACIÓN
URL:https://iaia.org.ar/actividad/programa-para-la-certificacion-cia-parte-1-clase-4/
CATEGORIES:Cursos
END:VEVENT
END:VCALENDAR