BEGIN:VCALENDAR
VERSION:2.0
PRODID:-//Instituto de Auditores Internos de Argentina - ECPv6.3.7//NONSGML v1.0//EN
CALSCALE:GREGORIAN
METHOD:PUBLISH
X-WR-CALNAME:Instituto de Auditores Internos de Argentina
X-ORIGINAL-URL:https://iaia.org.ar
X-WR-CALDESC:Eventos para Instituto de Auditores Internos de Argentina
REFRESH-INTERVAL;VALUE=DURATION:PT1H
X-Robots-Tag:noindex
X-PUBLISHED-TTL:PT1H
BEGIN:VTIMEZONE
TZID:America/Sao_Paulo
BEGIN:STANDARD
TZOFFSETFROM:-0300
TZOFFSETTO:-0300
TZNAME:-03
DTSTART:20210101T000000
END:STANDARD
END:VTIMEZONE
BEGIN:VEVENT
DTSTART;TZID=America/Sao_Paulo:20210409T093000
DTEND;TZID=America/Sao_Paulo:20210409T103000
DTSTAMP:20260420T114939
CREATED:20210122T183428Z
LAST-MODIFIED:20210125T174929Z
UID:19636-1617960600-1617964200@iaia.org.ar
SUMMARY:"El Código de Conducta\, ¿está actualizado?"
DESCRIPTION:Organiza: Comité de Compliance
URL:https://iaia.org.ar/actividad/comite-de-compliance-el-codigo-de-conducta-esta-actualizado/
CATEGORIES:Comité de Trabajo
END:VEVENT
END:VCALENDAR