BEGIN:VCALENDAR
VERSION:2.0
PRODID:-//Instituto de Auditores Internos de Argentina - ECPv6.3.7//NONSGML v1.0//EN
CALSCALE:GREGORIAN
METHOD:PUBLISH
X-ORIGINAL-URL:https://iaia.org.ar
X-WR-CALDESC:Eventos para Instituto de Auditores Internos de Argentina
REFRESH-INTERVAL;VALUE=DURATION:PT1H
X-Robots-Tag:noindex
X-PUBLISHED-TTL:PT1H
BEGIN:VTIMEZONE
TZID:America/Sao_Paulo
BEGIN:STANDARD
TZOFFSETFROM:-0200
TZOFFSETTO:-0300
TZNAME:-03
DTSTART:20190217T020000
END:STANDARD
END:VTIMEZONE
BEGIN:VEVENT
DTSTART;TZID=America/Sao_Paulo:20190611T123000
DTEND;TZID=America/Sao_Paulo:20190611T133000
DTSTAMP:20260425T183607
CREATED:20190410T161852Z
LAST-MODIFIED:20190604T175712Z
UID:15274-1560256200-1560259800@iaia.org.ar
SUMMARY:Comité Gestión Integral de Riesgo
DESCRIPTION:Reunión de trabajo.
URL:https://iaia.org.ar/actividad/comite-gestion-integral-de-riesgo-2/
LOCATION:Sede IAIA\, Viamonte 783\, CABA\, CABA\, 1053\, Argentina
CATEGORIES:Comité de Trabajo
END:VEVENT
END:VCALENDAR