BEGIN:VCALENDAR
VERSION:2.0
PRODID:-//Instituto de Auditores Internos de Argentina - ECPv6.3.7//NONSGML v1.0//EN
CALSCALE:GREGORIAN
METHOD:PUBLISH
X-ORIGINAL-URL:https://iaia.org.ar
X-WR-CALDESC:Eventos para Instituto de Auditores Internos de Argentina
REFRESH-INTERVAL;VALUE=DURATION:PT1H
X-Robots-Tag:noindex
X-PUBLISHED-TTL:PT1H
BEGIN:VTIMEZONE
TZID:America/Sao_Paulo
BEGIN:STANDARD
TZOFFSETFROM:-0300
TZOFFSETTO:-0300
TZNAME:-03
DTSTART:20210101T000000
END:STANDARD
END:VTIMEZONE
BEGIN:VEVENT
DTSTART;TZID=America/Sao_Paulo:20210813T093000
DTEND;TZID=America/Sao_Paulo:20210813T103000
DTSTAMP:20260420T071320
CREATED:20210127T122726Z
LAST-MODIFIED:20210127T122826Z
UID:19694-1628847000-1628850600@iaia.org.ar
SUMMARY:Comité de Compliance
DESCRIPTION:Reunión mensual. \nLos temas se irán decidiendo según las novedades regulatorias\, coyuntura y necesidades prácticas de la función.
URL:https://iaia.org.ar/actividad/comite-de-compliance-6/
CATEGORIES:Comité de Trabajo
END:VEVENT
END:VCALENDAR