BEGIN:VCALENDAR
VERSION:2.0
PRODID:-//Instituto de Auditores Internos de Argentina - ECPv6.3.7//NONSGML v1.0//EN
CALSCALE:GREGORIAN
METHOD:PUBLISH
X-WR-CALNAME:Instituto de Auditores Internos de Argentina
X-ORIGINAL-URL:https://iaia.org.ar
X-WR-CALDESC:Eventos para Instituto de Auditores Internos de Argentina
REFRESH-INTERVAL;VALUE=DURATION:PT1H
X-Robots-Tag:noindex
X-PUBLISHED-TTL:PT1H
BEGIN:VTIMEZONE
TZID:America/Sao_Paulo
BEGIN:STANDARD
TZOFFSETFROM:-0300
TZOFFSETTO:-0300
TZNAME:-03
DTSTART:20200101T000000
END:STANDARD
END:VTIMEZONE
BEGIN:VEVENT
DTSTART;TZID=America/Sao_Paulo:20200619T160000
DTEND;TZID=America/Sao_Paulo:20200619T200000
DTSTAMP:20260425T132431
CREATED:20200417T182026Z
LAST-MODIFIED:20200528T222940Z
UID:17499-1592582400-1592596800@iaia.org.ar
SUMMARY:Fraude en las organizaciones- Módulo I - Clase 2
DESCRIPTION:Prevención\, disuasión y detección de Fraude para Auditoría Interna. \nEl seminario le permite a los asistentes entender la naturaleza del fraude corporativo\, desde su concepción hasta su comisión; conocer metodologías para su detección\, disuasión y prevención\, propuestas de modelos de sistemas de gestión anti-fraude y distintas herramientas de investigación; integrando casos de estudio\, datos de encuestas recientes\, normativa y mejores prácticas relacionadas. \nPróximo dictado: 16\, 19\, 23 y 26 de junio de 2020 \nDuración: 16 hs. \nModalidad: ONLINE \nINSCRIPCIÓN | CLIC
URL:https://iaia.org.ar/actividad/fraude-en-las-organizaciones-modulo-i-clase-2/
LOCATION:ONLINE\, Argentina
CATEGORIES:Cursos
END:VEVENT
BEGIN:VEVENT
DTSTART;TZID=America/Sao_Paulo:20200623T160000
DTEND;TZID=America/Sao_Paulo:20200623T200000
DTSTAMP:20260425T132431
CREATED:20200417T182100Z
LAST-MODIFIED:20200528T222945Z
UID:17500-1592928000-1592942400@iaia.org.ar
SUMMARY:Fraude en las organizaciones- Módulo I - Clase 3
DESCRIPTION:Prevención\, disuasión y detección de Fraude para Auditoría Interna. \nEl seminario le permite a los asistentes entender la naturaleza del fraude corporativo\, desde su concepción hasta su comisión; conocer metodologías para su detección\, disuasión y prevención\, propuestas de modelos de sistemas de gestión anti-fraude y distintas herramientas de investigación; integrando casos de estudio\, datos de encuestas recientes\, normativa y mejores prácticas relacionadas. \nPróximo dictado: 16\, 19\, 23 y 26 de junio de 2020 \nDuración: 16 hs. \nModalidad: ONLINE \nINSCRIPCIÓN | CLIC
URL:https://iaia.org.ar/actividad/fraude-en-las-organizaciones-modulo-i-clase-3/
LOCATION:ONLINE\, Argentina
CATEGORIES:Cursos
END:VEVENT
BEGIN:VEVENT
DTSTART;TZID=America/Sao_Paulo:20200626T160000
DTEND;TZID=America/Sao_Paulo:20200626T200000
DTSTAMP:20260425T132431
CREATED:20200417T182122Z
LAST-MODIFIED:20200528T222951Z
UID:17501-1593187200-1593201600@iaia.org.ar
SUMMARY:Fraude en las organizaciones- Módulo I - Clase 4
DESCRIPTION:Prevención\, disuasión y detección de Fraude para Auditoría Interna. \nEl seminario le permite a los asistentes entender la naturaleza del fraude corporativo\, desde su concepción hasta su comisión; conocer metodologías para su detección\, disuasión y prevención\, propuestas de modelos de sistemas de gestión anti-fraude y distintas herramientas de investigación; integrando casos de estudio\, datos de encuestas recientes\, normativa y mejores prácticas relacionadas. \nPróximo dictado: 16\, 19\, 23 y 26 de junio de 2020 \nDuración: 16 hs. \nModalidad: ONLINE \nINSCRIPCIÓN | CLIC
URL:https://iaia.org.ar/actividad/fraude-en-las-organizaciones-modulo-i-clase-4/
LOCATION:ONLINE\, Argentina
CATEGORIES:Cursos
END:VEVENT
END:VCALENDAR