BEGIN:VCALENDAR
VERSION:2.0
PRODID:-//Instituto de Auditores Internos de Argentina - ECPv6.3.7//NONSGML v1.0//EN
CALSCALE:GREGORIAN
METHOD:PUBLISH
X-WR-CALNAME:Instituto de Auditores Internos de Argentina
X-ORIGINAL-URL:https://iaia.org.ar
X-WR-CALDESC:Eventos para Instituto de Auditores Internos de Argentina
REFRESH-INTERVAL;VALUE=DURATION:PT1H
X-Robots-Tag:noindex
X-PUBLISHED-TTL:PT1H
BEGIN:VTIMEZONE
TZID:America/Sao_Paulo
BEGIN:STANDARD
TZOFFSETFROM:-0300
TZOFFSETTO:-0300
TZNAME:-03
DTSTART:20210101T000000
END:STANDARD
END:VTIMEZONE
BEGIN:VEVENT
DTSTART;TZID=America/Sao_Paulo:20210622T170000
DTEND;TZID=America/Sao_Paulo:20210622T210000
DTSTAMP:20260424T142515
CREATED:20210607T201041Z
LAST-MODIFIED:20210607T201041Z
UID:20428-1624381200-1624395600@iaia.org.ar
SUMMARY:Fraude en las organizaciones- Módulo I - Clase 1
DESCRIPTION:Prevención\, disuasión y detección de Fraude para Auditoría Interna. \nEl seminario le permite a los asistentes entender la naturaleza del fraude corporativo\, desde su concepción hasta su comisión; conocer metodologías para su detección\, disuasión y prevención\, propuestas de modelos de sistemas de gestión anti-fraude y distintas herramientas de investigación; integrando casos de estudio\, datos de encuestas recientes\, normativa y mejores prácticas relacionadas. \n+INFORMACIÓN
URL:https://iaia.org.ar/actividad/fraude-en-las-organizaciones-modulo-i-clase-1-3/
CATEGORIES:Cursos
END:VEVENT
BEGIN:VEVENT
DTSTART;TZID=America/Sao_Paulo:20210624T170000
DTEND;TZID=America/Sao_Paulo:20210624T210000
DTSTAMP:20260424T142515
CREATED:20210607T201107Z
LAST-MODIFIED:20210607T201107Z
UID:20429-1624554000-1624568400@iaia.org.ar
SUMMARY:Fraude en las organizaciones- Módulo I - Clase 2
DESCRIPTION:Prevención\, disuasión y detección de Fraude para Auditoría Interna. \nEl seminario le permite a los asistentes entender la naturaleza del fraude corporativo\, desde su concepción hasta su comisión; conocer metodologías para su detección\, disuasión y prevención\, propuestas de modelos de sistemas de gestión anti-fraude y distintas herramientas de investigación; integrando casos de estudio\, datos de encuestas recientes\, normativa y mejores prácticas relacionadas. \n+INFORMACIÓN
URL:https://iaia.org.ar/actividad/fraude-en-las-organizaciones-modulo-i-clase-2-3/
CATEGORIES:Cursos
END:VEVENT
BEGIN:VEVENT
DTSTART;TZID=America/Sao_Paulo:20210629T170000
DTEND;TZID=America/Sao_Paulo:20210629T210000
DTSTAMP:20260424T142515
CREATED:20210607T201135Z
LAST-MODIFIED:20210607T201135Z
UID:20430-1624986000-1625000400@iaia.org.ar
SUMMARY:Fraude en las organizaciones- Módulo I - Clase 3
DESCRIPTION:Prevención\, disuasión y detección de Fraude para Auditoría Interna. \nEl seminario le permite a los asistentes entender la naturaleza del fraude corporativo\, desde su concepción hasta su comisión; conocer metodologías para su detección\, disuasión y prevención\, propuestas de modelos de sistemas de gestión anti-fraude y distintas herramientas de investigación; integrando casos de estudio\, datos de encuestas recientes\, normativa y mejores prácticas relacionadas. \n+INFORMACIÓN
URL:https://iaia.org.ar/actividad/fraude-en-las-organizaciones-modulo-i-clase-3-3/
CATEGORIES:Cursos
END:VEVENT
END:VCALENDAR