BEGIN:VCALENDAR
VERSION:2.0
PRODID:-//Instituto de Auditores Internos de Argentina - ECPv6.3.7//NONSGML v1.0//EN
CALSCALE:GREGORIAN
METHOD:PUBLISH
X-WR-CALNAME:Instituto de Auditores Internos de Argentina
X-ORIGINAL-URL:https://iaia.org.ar
X-WR-CALDESC:Eventos para Instituto de Auditores Internos de Argentina
REFRESH-INTERVAL;VALUE=DURATION:PT1H
X-Robots-Tag:noindex
X-PUBLISHED-TTL:PT1H
BEGIN:VTIMEZONE
TZID:America/Sao_Paulo
BEGIN:STANDARD
TZOFFSETFROM:-0300
TZOFFSETTO:-0300
TZNAME:-03
DTSTART:20210101T000000
END:STANDARD
END:VTIMEZONE
BEGIN:VEVENT
DTSTART;TZID=America/Sao_Paulo:20210701T170000
DTEND;TZID=America/Sao_Paulo:20210701T210000
DTSTAMP:20260424T124325
CREATED:20210607T201200Z
LAST-MODIFIED:20210607T201200Z
UID:20431-1625158800-1625173200@iaia.org.ar
SUMMARY:Fraude en las organizaciones- Módulo I - Clase 4
DESCRIPTION:Prevención\, disuasión y detección de Fraude para Auditoría Interna. \nEl seminario le permite a los asistentes entender la naturaleza del fraude corporativo\, desde su concepción hasta su comisión; conocer metodologías para su detección\, disuasión y prevención\, propuestas de modelos de sistemas de gestión anti-fraude y distintas herramientas de investigación; integrando casos de estudio\, datos de encuestas recientes\, normativa y mejores prácticas relacionadas. \n+INFORMACIÓN
URL:https://iaia.org.ar/actividad/fraude-en-las-organizaciones-modulo-i-clase-4-3/
CATEGORIES:Cursos
END:VEVENT
BEGIN:VEVENT
DTSTART;TZID=America/Sao_Paulo:20210707T170000
DTEND;TZID=America/Sao_Paulo:20210707T210000
DTSTAMP:20260424T124325
CREATED:20210607T201518Z
LAST-MODIFIED:20210607T201518Z
UID:20436-1625677200-1625691600@iaia.org.ar
SUMMARY:Fraude en las organizaciones- Módulo II - Clase 1
DESCRIPTION:Investigación de Fraudes para Auditores Internos \nEl seminario le permite a los asistentes entender la naturaleza del fraude corporativo\, desde su concepción hasta su comisión; conocer metodologías para su detección\, disuasión y prevención\, propuestas de modelos de sistemas de gestión anti-fraude y distintas herramientas de investigación; integrando casos de estudio\, datos de encuestas recientes\, normativa y mejores prácticas relacionadas. \n+INFORMACIÓN
URL:https://iaia.org.ar/actividad/fraude-en-las-organizaciones-modulo-ii-clase-1-2/
CATEGORIES:Cursos
END:VEVENT
BEGIN:VEVENT
DTSTART;TZID=America/Sao_Paulo:20210708T170000
DTEND;TZID=America/Sao_Paulo:20210708T210000
DTSTAMP:20260424T124325
CREATED:20210607T201538Z
LAST-MODIFIED:20210607T201538Z
UID:20437-1625763600-1625778000@iaia.org.ar
SUMMARY:Fraude en las organizaciones- Módulo II - Clase 2
DESCRIPTION:Investigación de Fraudes para Auditores Internos \nEl seminario le permite a los asistentes entender la naturaleza del fraude corporativo\, desde su concepción hasta su comisión; conocer metodologías para su detección\, disuasión y prevención\, propuestas de modelos de sistemas de gestión anti-fraude y distintas herramientas de investigación; integrando casos de estudio\, datos de encuestas recientes\, normativa y mejores prácticas relacionadas. \n+INFORMACIÓN
URL:https://iaia.org.ar/actividad/fraude-en-las-organizaciones-modulo-ii-clase-2-2/
CATEGORIES:Cursos
END:VEVENT
BEGIN:VEVENT
DTSTART;TZID=America/Sao_Paulo:20210714T170000
DTEND;TZID=America/Sao_Paulo:20210714T210000
DTSTAMP:20260424T124325
CREATED:20210607T201558Z
LAST-MODIFIED:20210607T201558Z
UID:20438-1626282000-1626296400@iaia.org.ar
SUMMARY:Fraude en las organizaciones- Módulo II - Clase 3
DESCRIPTION:Investigación de Fraudes para Auditores Internos \nEl seminario le permite a los asistentes entender la naturaleza del fraude corporativo\, desde su concepción hasta su comisión; conocer metodologías para su detección\, disuasión y prevención\, propuestas de modelos de sistemas de gestión anti-fraude y distintas herramientas de investigación; integrando casos de estudio\, datos de encuestas recientes\, normativa y mejores prácticas relacionadas. \n+INFORMACIÓN
URL:https://iaia.org.ar/actividad/fraude-en-las-organizaciones-modulo-ii-clase-3-2/
CATEGORIES:Cursos
END:VEVENT
BEGIN:VEVENT
DTSTART;TZID=America/Sao_Paulo:20210715T170000
DTEND;TZID=America/Sao_Paulo:20210715T210000
DTSTAMP:20260424T124325
CREATED:20210607T201620Z
LAST-MODIFIED:20210607T201620Z
UID:20439-1626368400-1626382800@iaia.org.ar
SUMMARY:Fraude en las organizaciones- Módulo II - Clase 4
DESCRIPTION:Investigación de Fraudes para Auditores Internos \nEl seminario le permite a los asistentes entender la naturaleza del fraude corporativo\, desde su concepción hasta su comisión; conocer metodologías para su detección\, disuasión y prevención\, propuestas de modelos de sistemas de gestión anti-fraude y distintas herramientas de investigación; integrando casos de estudio\, datos de encuestas recientes\, normativa y mejores prácticas relacionadas. \n+INFORMACIÓN
URL:https://iaia.org.ar/actividad/fraude-en-las-organizaciones-modulo-ii-clase-4-2/
CATEGORIES:Cursos
END:VEVENT
END:VCALENDAR